BEGIN:VCALENDAR
VERSION:2.0
PRODID:-//Onewa Parents Centre - ECPv6.15.20//NONSGML v1.0//EN
CALSCALE:GREGORIAN
METHOD:PUBLISH
X-WR-CALNAME:Onewa Parents Centre
X-ORIGINAL-URL:https://www.onewaparentscentre.org.nz
X-WR-CALDESC:Events for Onewa Parents Centre
REFRESH-INTERVAL;VALUE=DURATION:PT1H
X-Robots-Tag:noindex
X-PUBLISHED-TTL:PT1H
BEGIN:VTIMEZONE
TZID:Pacific/Auckland
BEGIN:STANDARD
TZOFFSETFROM:+1300
TZOFFSETTO:+1200
TZNAME:NZST
DTSTART:20250405T140000
END:STANDARD
BEGIN:DAYLIGHT
TZOFFSETFROM:+1200
TZOFFSETTO:+1300
TZNAME:NZDT
DTSTART:20250927T140000
END:DAYLIGHT
BEGIN:STANDARD
TZOFFSETFROM:+1300
TZOFFSETTO:+1200
TZNAME:NZST
DTSTART:20260404T140000
END:STANDARD
BEGIN:DAYLIGHT
TZOFFSETFROM:+1200
TZOFFSETTO:+1300
TZNAME:NZDT
DTSTART:20260926T140000
END:DAYLIGHT
BEGIN:STANDARD
TZOFFSETFROM:+1300
TZOFFSETTO:+1200
TZNAME:NZST
DTSTART:20270403T140000
END:STANDARD
BEGIN:DAYLIGHT
TZOFFSETFROM:+1200
TZOFFSETTO:+1300
TZNAME:NZDT
DTSTART:20270925T140000
END:DAYLIGHT
END:VTIMEZONE
BEGIN:VEVENT
DTSTART;TZID=Pacific/Auckland:20260511T190000
DTEND;TZID=Pacific/Auckland:20260629T190000
DTSTAMP:20260426T033343
CREATED:20251210T074716Z
LAST-MODIFIED:20260129T110556Z
UID:6656-1778526000-1782759600@www.onewaparentscentre.org.nz
SUMMARY:BIRKENHEAD New Parents Package (for babies due in August 2026)
DESCRIPTION:Our New Parents Package is for expectant parents and their support people to prepare for the arrival of a new baby and becoming parents. Our highly regarded classes are run by qualified\, trained childbirth educators in a relaxed and nurturing setting. \nThis package starts in May 2026 and is for babies due in August 2026. The Childbirth Education course runs over seven weeks on Monday evenings. The course will run from  Monday 11th May  to 29th June 2026 (No classes 1st June due to King’s Birthday).  All classes run  7pm-9pm\, at the Rawene Centre\, Birkenhead. The Baby and You course runs over six weekday sessions starting in September 2026. \nCost:\nOur New Parents Package costs $350 (incl. GST) and includes: \n\nTOTAL: THIRTEEN Sessions of New Parent Education including:\nAttendance for two people (i.e. one couple) at the 7-session  Childbirth Education course (evenings).\nAttendance for two people (i.e. one couple) at the 6-session Baby & You course (week day mornings)\, with a start date in September 2026.\nA one year membership to Onewa Parents Centre.\n\nVenue:\nAll classes are held in the Onewa Parents Centre rooms in the Rawene Centre\, Birkenhead\, North Shore\, Auckland. \nTerms:\nBy registering my attendance I acknowledge that there is a non-refundable fee of $75 if I cancel within two weeks of my booked course commencing\, and once the first session has commenced there is no refund. \n  \n 
URL:https://www.onewaparentscentre.org.nz/event/birkenhead-new-parents-package-for-babies-due-in-august-2026/
LOCATION:OPC Rooms\, 35 Rawene Road\, Birkenhead\, Auckland\, 0626\, New Zealand
CATEGORIES:Baby and You,Childbirth Education (Antenatal)
ATTACH;FMTTYPE=image/jpeg:https://www.onewaparentscentre.org.nz/wp-content/uploads/2018/02/jenna-norman-292402-unsplash.jpg
ORGANIZER;CN="Onewa Parents Centre":MAILTO:onewa@parentscentre.org.nz
END:VEVENT
BEGIN:VEVENT
DTSTART;TZID=Pacific/Auckland:20260519T190000
DTEND;TZID=Pacific/Auckland:20260609T210000
DTSTAMP:20260426T033343
CREATED:20251112T041301Z
LAST-MODIFIED:20260409T000409Z
UID:6558-1779217200-1781038800@www.onewaparentscentre.org.nz
SUMMARY:HIBISCUS COAST New Parents Package (for babies due July - August 26)
DESCRIPTION:Our Hibiscus Coast New Parents Package is for expectant parents and their support people to prepare for the arrival of a new baby and becoming parents. Our highly regarded classes are run by qualified\, trained childbirth educators in a relaxed and nurturing setting. \nThis package starts in May 2026 and is for babies due between July & August 2026. The Childbirth Education course runs on Tuesday evenings. The course will start on Tuesday 19th May\, 7pm\, running for four weeks until the 9th June\, at the Hibiscus Coast Netball Centre\, Edith Hopper Park\, Ladies Mile\, Manly\, Whangaparāoa. The Baby and You course runs over four weekday sessions. \nCost:\nOur New Parents Package costs $285 (incl. GST) and includes: \n\nAttendance for two people (i.e. one couple) at the Childbirth Education course (evenings) + 1-session CPR (Sunday AM TBA)\nAttendance for two people (i.e. one couple) at the 4-session Baby & You course (week day mornings).\nA one year membership to Hibiscus Coast Parents Centre.\n\nVenue:\nAll classes are held at the Hibiscus Coast Netball Centre\, Edith Hopper Park\, Whangaparāoa\, Hibiscus Coast. \nTerms:\nBy registering my attendance I acknowledge that there is a non-refundable fee of $75 if I cancel within two weeks of my booked course commencing\, and once the first session has commenced there is no refund. \n  \n 
URL:https://www.onewaparentscentre.org.nz/event/hibiscus-coast-new-parents-package-for-babies-due-july-aug-26-2/
LOCATION:Hibiscus Coast Netball Centre\, 42 Ladies Mile\, Manly\, Whangaparāoa\, 0930\, New Zealand
CATEGORIES:Baby and You,Childbirth Education (Antenatal),Hibiscus Coast
ATTACH;FMTTYPE=image/jpeg:https://www.onewaparentscentre.org.nz/wp-content/uploads/2018/02/jenna-norman-292402-unsplash.jpg
ORGANIZER;CN="Hibiscus Coast Parents Centre":MAILTO:opcantenatal@gmail.com
END:VEVENT
BEGIN:VEVENT
DTSTART;TZID=Pacific/Auckland:20260611T190000
DTEND;TZID=Pacific/Auckland:20260730T190000
DTSTAMP:20260426T033343
CREATED:20260208T031441Z
LAST-MODIFIED:20260208T031441Z
UID:6822-1781204400-1785438000@www.onewaparentscentre.org.nz
SUMMARY:BIRKENHEAD New Parents Package (for babies due in September 2026)
DESCRIPTION:Our New Parents Package is for expectant parents and their support people to prepare for the arrival of a new baby and becoming parents. Our highly regarded classes are run by qualified\, trained childbirth educators in a relaxed and nurturing setting. \nThis package starts in June 2026 and is for babies due in September 2026. The Childbirth Education course runs over seven weeks on Thursday evenings. The course will run from  Thursday 11th June  to 30th July 2026 (No classes 9th July due to Matariki).  All classes run  7pm-9pm\, at the Rawene Centre\, Birkenhead. The Baby and You course runs over six weekday sessions starting in October 2026. \nCost:\nOur New Parents Package costs $350 (incl. GST) and includes: \n\nAttendance for two people (i.e. one couple) at the 7-session  Childbirth Education course (evenings).\nAttendance for two people (i.e. one couple) at the 6-session Baby & You course (week day mornings)\, with a start date in October 2026.\nTOTAL: THIRTEEN Sessions of New Parent Education Antenatal & Postnatal\nA one year membership to Onewa Parents Centre.\n\nVenue:\nAll classes are held in the Onewa Parents Centre rooms in the Rawene Centre\, Birkenhead\, North Shore\, Auckland. \nTerms:\nBy registering my attendance I acknowledge that there is a non-refundable fee of $75 if I cancel within two weeks of my booked course commencing\, and once the first session has commenced there is no refund. \n  \n 
URL:https://www.onewaparentscentre.org.nz/event/birkenhead-new-parents-package-for-babies-due-in-sept-2026/
LOCATION:OPC Rooms\, 35 Rawene Road\, Birkenhead\, Auckland\, 0626\, New Zealand
CATEGORIES:Baby and You,Childbirth Education (Antenatal)
ATTACH;FMTTYPE=image/jpeg:https://www.onewaparentscentre.org.nz/wp-content/uploads/2018/02/jenna-norman-292402-unsplash.jpg
ORGANIZER;CN="Onewa Parents Centre":MAILTO:onewa@parentscentre.org.nz
END:VEVENT
BEGIN:VEVENT
DTSTART;TZID=Pacific/Auckland:20260707T184500
DTEND;TZID=Pacific/Auckland:20260728T211500
DTSTAMP:20260426T033343
CREATED:20260318T231731Z
LAST-MODIFIED:20260318T231731Z
UID:6924-1783449900-1785273300@www.onewaparentscentre.org.nz
SUMMARY:HIBISCUS COAST New Parents Package (for babies due Aug - Sept - Oct 26)
DESCRIPTION:Our Hibiscus Coast New Parents Package is for expectant parents and their support people to prepare for the arrival of a new baby and becoming parents. Our highly regarded classes are run by qualified\, trained childbirth educators in a relaxed and nurturing setting. \nThis package starts in July 2026 and is for babies due in late August\, September & Early October 2026. The Childbirth Education course runs on Tuesday evenings. The course will start on Tuesday 7th July\, 7pm\, running for four weeks\, at the Hibiscus Coast Netball Centre\, Edith Hopper Park\, Ladies Mile\, Manly\, Whangaparāoa. The Baby and You course runs over four weekday sessions. \nCost:\nOur New Parents Package costs $285 (incl. GST) and includes: \n\nAttendance for two people (i.e. one couple) at the Childbirth Education course (evenings) + 1-session CPR (Sunday AM TBA)\nAttendance for two people (i.e. one couple) at the 4-session Baby & You course (week day mornings).\nA one year membership to Hibiscus Coast Parents Centre.\n\nVenue:\nAll classes are held at the Hibiscus Coast Netball Centre\, Edith Hopper Park\, Whangaparāoa\, Hibiscus Coast. \nTerms:\nBy registering my attendance I acknowledge that there is a non-refundable fee of $75 if I cancel within two weeks of my booked course commencing\, and once the first session has commenced there is no refund. \n  \n 
URL:https://www.onewaparentscentre.org.nz/event/hibiscus-coast-new-parents-package-for-babies-due-aug-sept-oct-26/
LOCATION:Hibiscus Coast Netball Centre\, 42 Ladies Mile\, Manly\, Whangaparāoa\, 0930\, New Zealand
CATEGORIES:Baby and You,Childbirth Education (Antenatal),Hibiscus Coast
ATTACH;FMTTYPE=image/jpeg:https://www.onewaparentscentre.org.nz/wp-content/uploads/2018/02/jenna-norman-292402-unsplash.jpg
ORGANIZER;CN="Hibiscus Coast Parents Centre":MAILTO:opcantenatal@gmail.com
END:VEVENT
BEGIN:VEVENT
DTSTART;TZID=Pacific/Auckland:20260720T190000
DTEND;TZID=Pacific/Auckland:20260831T190000
DTSTAMP:20260426T033343
CREATED:20260329T202439Z
LAST-MODIFIED:20260330T082727Z
UID:6953-1784574000-1788202800@www.onewaparentscentre.org.nz
SUMMARY:BIRKENHEAD New Parents Package (for babies due in October 2026)
DESCRIPTION:Our New Parents Package is for expectant parents and their support people to prepare for the arrival of a new baby and becoming parents. Our highly regarded classes are run by qualified\, trained childbirth educators in a relaxed and nurturing setting. \nThis package starts in July 2026 and is for babies due in October 2026. The Childbirth Education course runs over seven weeks on Thursday evenings. The course will run from  Monday 20th July  to 31st August 2026.  All classes run  7pm-9pm\, at the Rawene Centre\, Birkenhead. The Baby and You course runs over six weekday sessions starting in November 2026. \nCost:\nOur New Parents Package costs $350 (incl. GST) and includes: \n\nAttendance for two people (i.e. one couple) at the 7-session  Childbirth Education course (evenings).\nAttendance for two people (i.e. one couple) at the 6-session Baby & You course (week day mornings)\, with a start date in November 2026.\nTOTAL: THIRTEEN Sessions of New Parent Education Antenatal & Postnatal\nA one year membership to Onewa Parents Centre.\n\nVenue:\nAll classes are held in the Onewa Parents Centre rooms in the Rawene Centre\, Birkenhead\, North Shore\, Auckland. \nTerms:\nBy registering my attendance I acknowledge that there is a non-refundable fee of $75 if I cancel within two weeks of my booked course commencing\, and once the first session has commenced there is no refund. \n  \n 
URL:https://www.onewaparentscentre.org.nz/event/birkenhead-new-parents-package-for-babies-due-in-october-2026/
LOCATION:OPC Rooms\, 35 Rawene Road\, Birkenhead\, Auckland\, 0626\, New Zealand
CATEGORIES:Baby and You,Childbirth Education (Antenatal)
ATTACH;FMTTYPE=image/jpeg:https://www.onewaparentscentre.org.nz/wp-content/uploads/2018/02/jenna-norman-292402-unsplash.jpg
ORGANIZER;CN="Onewa Parents Centre":MAILTO:onewa@parentscentre.org.nz
END:VEVENT
BEGIN:VEVENT
DTSTART;TZID=Pacific/Auckland:20260813T190000
DTEND;TZID=Pacific/Auckland:20260924T190000
DTSTAMP:20260426T033343
CREATED:20260424T043812Z
LAST-MODIFIED:20260424T043812Z
UID:6988-1786647600-1790276400@www.onewaparentscentre.org.nz
SUMMARY:BIRKENHEAD New Parents Package (for babies due in November 2026)
DESCRIPTION:Our New Parents Package is for expectant parents and their support people to prepare for the arrival of a new baby and becoming parents. Our highly regarded classes are run by qualified\, trained childbirth educators in a relaxed and nurturing setting. \nThis package starts in August 2026 and is for babies due in November 2026. The Childbirth Education course runs over seven weeks on Thursday evenings. The course will run from  Thursday 13th August  to 24th September 2026.  All classes run  7pm-9pm\, at the Rawene Centre\, Birkenhead. The Baby and You course runs over six weekday sessions starting in December 2026. \nCost:\nOur New Parents Package costs $350 (incl. GST) and includes: \n\nAttendance for two people (i.e. one couple) at the 7-session  Childbirth Education course (evenings).\nAttendance for two people (i.e. one couple) at the 6-session Baby & You course (week day mornings)\, with a start date in December 2026.\nTOTAL: THIRTEEN Sessions of New Parent Education Antenatal & Postnatal\nA one year membership to Onewa Parents Centre.\n\nVenue:\nAll classes are held in the Onewa Parents Centre rooms in the Rawene Centre\, Birkenhead\, North Shore\, Auckland. \nTerms:\nBy registering my attendance I acknowledge that there is a non-refundable fee of $75 if I cancel within two weeks of my booked course commencing\, and once the first session has commenced there is no refund. \n  \n 
URL:https://www.onewaparentscentre.org.nz/event/birkenhead-new-parents-package-for-babies-due-in-november-2026-2/
LOCATION:OPC Rooms\, 35 Rawene Road\, Birkenhead\, Auckland\, 0626\, New Zealand
CATEGORIES:Baby and You,Childbirth Education (Antenatal)
ATTACH;FMTTYPE=image/jpeg:https://www.onewaparentscentre.org.nz/wp-content/uploads/2018/02/jenna-norman-292402-unsplash.jpg
ORGANIZER;CN="Onewa Parents Centre":MAILTO:onewa@parentscentre.org.nz
END:VEVENT
BEGIN:VEVENT
DTSTART;TZID=Pacific/Auckland:20260901T184500
DTEND;TZID=Pacific/Auckland:20260922T211500
DTSTAMP:20260426T033343
CREATED:20260318T232932Z
LAST-MODIFIED:20260320T011720Z
UID:6927-1788288300-1790111700@www.onewaparentscentre.org.nz
SUMMARY:HIBISCUS COAST New Parents Package (for babies due Oct - Nov 26)
DESCRIPTION:Our Hibiscus Coast New Parents Package is for expectant parents and their support people to prepare for the arrival of a new baby and becoming parents. Our highly regarded classes are run by qualified\, trained childbirth educators in a relaxed and nurturing setting. \nThis package starts in September 2026 and is for babies due in mid October – November 2026. The Childbirth Education course runs on Tuesday evenings. The course will start on Tuesday 1st September\, 7pm\, running for four weeks\, at the Hibiscus Coast Netball Centre\, Edith Hopper Park\, Ladies Mile\, Manly\, Whangaparāoa. The Baby and You course runs over four weekday sessions. \nCost:\nOur New Parents Package costs $285 (incl. GST) and includes: \n\nAttendance for two people (i.e. one couple) at the Childbirth Education course (evenings) + 1-session CPR (Sunday AM TBA)\nAttendance for two people (i.e. one couple) at the 4-session Baby & You course (week day mornings).\nA one year membership to Hibiscus Coast Parents Centre.\n\nVenue:\nAll classes are held at the Hibiscus Coast Netball Centre\, Edith Hopper Park\, Whangaparāoa\, Hibiscus Coast. \nTerms:\nBy registering my attendance I acknowledge that there is a non-refundable fee of $75 if I cancel within two weeks of my booked course commencing\, and once the first session has commenced there is no refund. \n  \n 
URL:https://www.onewaparentscentre.org.nz/event/hibiscus-coast-new-parents-package-for-babies-oct-nov-26/
LOCATION:Hibiscus Coast Netball Centre\, 42 Ladies Mile\, Manly\, Whangaparāoa\, 0930\, New Zealand
CATEGORIES:Baby and You,Childbirth Education (Antenatal),Hibiscus Coast
ATTACH;FMTTYPE=image/jpeg:https://www.onewaparentscentre.org.nz/wp-content/uploads/2018/02/jenna-norman-292402-unsplash.jpg
ORGANIZER;CN="Hibiscus Coast Parents Centre":MAILTO:opcantenatal@gmail.com
END:VEVENT
END:VCALENDAR