BEGIN:VCALENDAR
VERSION:2.0
PRODID:-//Onewa Parents Centre - ECPv6.15.20//NONSGML v1.0//EN
CALSCALE:GREGORIAN
METHOD:PUBLISH
X-ORIGINAL-URL:https://www.onewaparentscentre.org.nz
X-WR-CALDESC:Events for Onewa Parents Centre
REFRESH-INTERVAL;VALUE=DURATION:PT1H
X-Robots-Tag:noindex
X-PUBLISHED-TTL:PT1H
BEGIN:VTIMEZONE
TZID:Pacific/Auckland
BEGIN:STANDARD
TZOFFSETFROM:+1300
TZOFFSETTO:+1200
TZNAME:NZST
DTSTART:20250405T140000
END:STANDARD
BEGIN:DAYLIGHT
TZOFFSETFROM:+1200
TZOFFSETTO:+1300
TZNAME:NZDT
DTSTART:20250927T140000
END:DAYLIGHT
BEGIN:STANDARD
TZOFFSETFROM:+1300
TZOFFSETTO:+1200
TZNAME:NZST
DTSTART:20260404T140000
END:STANDARD
BEGIN:DAYLIGHT
TZOFFSETFROM:+1200
TZOFFSETTO:+1300
TZNAME:NZDT
DTSTART:20260926T140000
END:DAYLIGHT
BEGIN:STANDARD
TZOFFSETFROM:+1300
TZOFFSETTO:+1200
TZNAME:NZST
DTSTART:20270403T140000
END:STANDARD
BEGIN:DAYLIGHT
TZOFFSETFROM:+1200
TZOFFSETTO:+1300
TZNAME:NZDT
DTSTART:20270925T140000
END:DAYLIGHT
END:VTIMEZONE
BEGIN:VEVENT
DTSTART;TZID=Pacific/Auckland:20260511T100000
DTEND;TZID=Pacific/Auckland:20260511T120000
DTSTAMP:20260426T045825
CREATED:20260302T033149Z
LAST-MODIFIED:20260302T033149Z
UID:6909-1778493600-1778500800@www.onewaparentscentre.org.nz
SUMMARY:BIRKENHEAD Infant First Aid 11th May 2026
DESCRIPTION:One-Off Session – Infant First Aid with Shrenika & Helen from Little Beat First Aid Education for Parents. \nCPR and First aid education for expecting or new parents taught by experienced paediatric nurses covering the most important things you need to know to prepare you for an emergency situation with your child. \nA two hour first aid course covering infant and child CPR\, first aid for choking and other common childhood incidents such as burns\, head injuries\, febrile seizures and more. Includes practice on manikins and the opportunity to ask any questions. \nBabies are welcome to attend with their caregivers. \nElectronic handouts emailed after the session. \nCost: \n\n$30 per individual (partners & support people will need their own ticket).\n\nNote: This session is also offered as part of our ‘Baby & You’ postpartum course which is $165 for six-sessions. Check our ‘courses & events listing’ for further details.
URL:https://www.onewaparentscentre.org.nz/event/birkenhead-infant-first-aid-11th-may-2026/
LOCATION:OPC Rooms\, 35 Rawene Road\, Birkenhead\, Auckland\, 0626\, New Zealand
CATEGORIES:Baby and You,First Aid & CPR,Workshops
ATTACH;FMTTYPE=image/jpeg:https://www.onewaparentscentre.org.nz/wp-content/uploads/2017/11/jens-johnsson-291176.jpg
ORGANIZER;CN="Onewa Parents Centre":MAILTO:onewa@parentscentre.org.nz
END:VEVENT
BEGIN:VEVENT
DTSTART;TZID=Pacific/Auckland:20260713T100000
DTEND;TZID=Pacific/Auckland:20260713T120000
DTSTAMP:20260426T045825
CREATED:20260424T050532Z
LAST-MODIFIED:20260424T050910Z
UID:7000-1783936800-1783944000@www.onewaparentscentre.org.nz
SUMMARY:BIRKENHEAD Infant First Aid 13th July 2026
DESCRIPTION:One-Off Session – Infant First Aid with Shrenika & Helen from Little Beat First Aid Education for Parents. \nCPR and First aid education for expecting or new parents taught by experienced paediatric nurses covering the most important things you need to know to prepare you for an emergency situation with your child. \nA two hour first aid course covering infant and child CPR\, first aid for choking and other common childhood incidents such as burns\, head injuries\, febrile seizures and more. Includes practice on manikins and the opportunity to ask any questions. \nBabies are welcome to attend with their caregivers. \nElectronic handouts emailed after the session. \nCost: \n\n$30 per individual (partners & support people will need their own ticket).\n\nNote: This session is also offered as part of our ‘Baby & You’ postpartum course which is $165 for six-sessions. Check our ‘courses & events listing’ for further details.
URL:https://www.onewaparentscentre.org.nz/event/birkenhead-infant-first-aid-july-2026/
LOCATION:OPC Rooms\, 35 Rawene Road\, Birkenhead\, Auckland\, 0626\, New Zealand
CATEGORIES:Baby and You,First Aid & CPR,Workshops
ATTACH;FMTTYPE=image/jpeg:https://www.onewaparentscentre.org.nz/wp-content/uploads/2017/11/jens-johnsson-291176.jpg
ORGANIZER;CN="Onewa Parents Centre":MAILTO:onewa@parentscentre.org.nz
END:VEVENT
END:VCALENDAR