BEGIN:VCALENDAR
VERSION:2.0
PRODID:-//Onewa Parents Centre - ECPv6.15.20//NONSGML v1.0//EN
CALSCALE:GREGORIAN
METHOD:PUBLISH
X-WR-CALNAME:Onewa Parents Centre
X-ORIGINAL-URL:https://www.onewaparentscentre.org.nz
X-WR-CALDESC:Events for Onewa Parents Centre
REFRESH-INTERVAL;VALUE=DURATION:PT1H
X-Robots-Tag:noindex
X-PUBLISHED-TTL:PT1H
BEGIN:VTIMEZONE
TZID:Pacific/Auckland
BEGIN:STANDARD
TZOFFSETFROM:+1300
TZOFFSETTO:+1200
TZNAME:NZST
DTSTART:20220402T140000
END:STANDARD
BEGIN:DAYLIGHT
TZOFFSETFROM:+1200
TZOFFSETTO:+1300
TZNAME:NZDT
DTSTART:20220924T140000
END:DAYLIGHT
BEGIN:STANDARD
TZOFFSETFROM:+1300
TZOFFSETTO:+1200
TZNAME:NZST
DTSTART:20230401T140000
END:STANDARD
BEGIN:DAYLIGHT
TZOFFSETFROM:+1200
TZOFFSETTO:+1300
TZNAME:NZDT
DTSTART:20230923T140000
END:DAYLIGHT
BEGIN:STANDARD
TZOFFSETFROM:+1300
TZOFFSETTO:+1200
TZNAME:NZST
DTSTART:20240406T140000
END:STANDARD
BEGIN:DAYLIGHT
TZOFFSETFROM:+1200
TZOFFSETTO:+1300
TZNAME:NZDT
DTSTART:20240928T140000
END:DAYLIGHT
END:VTIMEZONE
BEGIN:VEVENT
DTSTART;TZID=Pacific/Auckland:20231201T100000
DTEND;TZID=Pacific/Auckland:20231208T100000
DTSTAMP:20260426T082652
CREATED:20221221T101046Z
LAST-MODIFIED:20231011T025508Z
UID:4449-1701424800-1702029600@www.onewaparentscentre.org.nz
SUMMARY:Moving and Munching (December 2023)
DESCRIPTION:Our Moving and Munching course includes two interactive and informative sessions\, tailored to parents of 3 month – 6 month old babies\, and covers a range of topics including your baby’s physical and mental milestones\, bonding and learning through play\, starting solids\, nutritional requirements\, and stages of development. \nThis course includes two sessions\, held Friday 1st December (Moving) at 10am and Friday 8th December (Munching) at 10am. Both sessions run in the OPC Rooms at the Rawene Centre (or via Zoom depending on Covid restrictions). \nThe Moving session is hosted by Alida Aitken. Alida holds qualifications in psychology\, counselling\, hypnobirthing\, pregnancy\, childbirth and early parenting education. She is passionate about supporting parents to feel empowered throughout their parenting journey. This session is facilitated in a way that supports the wellbeing of the whole whānau\, discussing strategies to encourage pēpi’s movement without adding to the mental and physical workload of parenthood. \nKey topics: \n\nBrain development and movement\nMilestones and mini-milestones\nMovement and learning\nTummy time\, sitting and baby ‘equipment’\nPlay for young babies; what does it look like and what can we do to support it?\n\nThe Munching session\, hosted by Priscilla Natalia is a New Zealand Registered Dietitian (NZRD) and has facilitated Auckland based Parent Centre Nutrition talks since 2015. These 1.5 hour nutrition session provide parents with the latest evidence-based nutrition advice according to the appropriate age and stages of development. She has worked as a NZRD for over 22 years\, with having had experience working in clinical practice and working with the University of Otago as a Professional Practice Fellow for the Masters of Dietetics Programme. Priscilla continues to maintain clinical practice as a Paediatric Dietitian working for ACC providers. \nKey topics: \n\nStarting solids (when\, what and how)\nHomemade baby food\nImportance of iron\nProgressing the consistencies of solids (textures and variety)\nBowel changes\nBaby led weaning\nChoking\nAllergies and intolerances\n\nParents of younger babies are most welcome to attend\, as are the little ones! \nCost: \n\nParents Centre members: $40 (incl. GST) for both sessions\nNon-Parents Centre members: $50 (incl. GST) for both sessions\n\nPlease note that any request to withdraw from this course within one week of commencement will not be eligible for a refund of the fees above. \nVenue: \nAll classes are held in the Onewa Parents Centre rooms in the Rawene Centre\, Birkenhead (or via Zoom depending on Covid restrictions).
URL:https://www.onewaparentscentre.org.nz/event/moving-and-munching-december-2023-2/
LOCATION:OPC Rooms\, 35 Rawene Road\, Birkenhead\, Auckland\, 0626\, New Zealand
CATEGORIES:Moving and Munching
ATTACH;FMTTYPE=image/jpeg:https://www.onewaparentscentre.org.nz/wp-content/uploads/2018/10/colin-maynard-231363-unsplash-e1576721413270.jpg
ORGANIZER;CN="Onewa Parents Centre":MAILTO:onewa@parentscentre.org.nz
END:VEVENT
BEGIN:VEVENT
DTSTART;TZID=Pacific/Auckland:20231013T100000
DTEND;TZID=Pacific/Auckland:20231020T100000
DTSTAMP:20260426T082652
CREATED:20221221T101007Z
LAST-MODIFIED:20230705T094756Z
UID:4444-1697191200-1697796000@www.onewaparentscentre.org.nz
SUMMARY:Moving and Munching (October 2023)
DESCRIPTION:Our Moving and Munching course includes two interactive and informative sessions\, tailored to parents of 3 month – 6 month old babies\, and covers a range of topics including your baby’s physical and mental milestones\, bonding and learning through play\, starting solids\, nutritional requirements\, and stages of development. \nThis course includes two sessions\, held Friday 13th October (Munching) at 10am and Friday 20th October (Moving) at 10am. Both sessions run in the OPC Rooms at the Rawene Centre (or via Zoom depending on Covid restrictions). \nThe Moving session is hosted by Alida Aitken. Alida holds qualifications in psychology\, counselling\, hypnobirthing\, pregnancy\, childbirth and early parenting education. She is passionate about supporting parents to feel empowered throughout their parenting journey. This session is facilitated in a way that supports the wellbeing of the whole whānau\, discussing strategies to encourage pēpi’s movement without adding to the mental and physical workload of parenthood. \nKey topics: \n\nBrain development and movement\nMilestones and mini-milestones\nMovement and learning\nTummy time\, sitting and baby ‘equipment’\nPlay for young babies; what does it look like and what can we do to support it?\n\nThe Munching session\, hosted by Priscilla Natalia is a New Zealand Registered Dietitian (NZRD) and has facilitated Auckland based Parent Centre Nutrition talks since 2015. These 1.5 hour nutrition session provide parents with the latest evidence-based nutrition advice according to the appropriate age and stages of development. She has worked as a NZRD for over 22 years\, with having had experience working in clinical practice and working with the University of Otago as a Professional Practice Fellow for the Masters of Dietetics Programme. Priscilla continues to maintain clinical practice as a Paediatric Dietitian working for ACC providers. \nKey topics: \n\nStarting solids (when\, what and how)\nHomemade baby food\nImportance of iron\nProgressing the consistencies of solids (textures and variety)\nBowel changes\nBaby led weaning\nChoking\nAllergies and intolerances\n\nParents of younger babies are most welcome to attend\, as are the little ones! \nCost: \n\nParents Centre members: $40 (incl. GST) for both sessions\nNon-Parents Centre members: $50 (incl. GST) for both sessions\n\nPlease note that any request to withdraw from this course within one week of commencement will not be eligible for a refund of the fees above. \nVenue: \nAll classes are held in the Onewa Parents Centre rooms in the Rawene Centre\, Birkenhead (or via Zoom depending on Covid restrictions).
URL:https://www.onewaparentscentre.org.nz/event/moving-and-munching-october-2023-2/
LOCATION:OPC Rooms\, 35 Rawene Road\, Birkenhead\, Auckland\, 0626\, New Zealand
CATEGORIES:Moving and Munching
ATTACH;FMTTYPE=image/jpeg:https://www.onewaparentscentre.org.nz/wp-content/uploads/2018/10/colin-maynard-231363-unsplash-e1576721413270.jpg
ORGANIZER;CN="Onewa Parents Centre":MAILTO:onewa@parentscentre.org.nz
END:VEVENT
END:VCALENDAR